BEGIN:VCALENDAR
VERSION:2.0
PRODID:-//KDA Creative Corps - ECPv6.15.20//NONSGML v1.0//EN
CALSCALE:GREGORIAN
METHOD:PUBLISH
X-WR-CALNAME:KDA Creative Corps
X-ORIGINAL-URL:https://kdacreativecorps.org
X-WR-CALDESC:Events for KDA Creative Corps
REFRESH-INTERVAL;VALUE=DURATION:PT1H
X-Robots-Tag:noindex
X-PUBLISHED-TTL:PT1H
BEGIN:VTIMEZONE
TZID:America/Los_Angeles
BEGIN:DAYLIGHT
TZOFFSETFROM:-0800
TZOFFSETTO:-0700
TZNAME:PDT
DTSTART:20230312T100000
END:DAYLIGHT
BEGIN:STANDARD
TZOFFSETFROM:-0700
TZOFFSETTO:-0800
TZNAME:PST
DTSTART:20231105T090000
END:STANDARD
BEGIN:DAYLIGHT
TZOFFSETFROM:-0800
TZOFFSETTO:-0700
TZNAME:PDT
DTSTART:20240310T100000
END:DAYLIGHT
BEGIN:STANDARD
TZOFFSETFROM:-0700
TZOFFSETTO:-0800
TZNAME:PST
DTSTART:20241103T090000
END:STANDARD
BEGIN:DAYLIGHT
TZOFFSETFROM:-0800
TZOFFSETTO:-0700
TZNAME:PDT
DTSTART:20250309T100000
END:DAYLIGHT
BEGIN:STANDARD
TZOFFSETFROM:-0700
TZOFFSETTO:-0800
TZNAME:PST
DTSTART:20251102T090000
END:STANDARD
END:VTIMEZONE
BEGIN:VEVENT
DTSTART;VALUE=DATE:20240201
DTEND;VALUE=DATE:20240202
DTSTAMP:20260421T041159
CREATED:20230628T171902Z
LAST-MODIFIED:20230911T052858Z
UID:5482-1706745600-1706831999@kdacreativecorps.org
SUMMARY:Start promoting Spring Session
DESCRIPTION:
URL:https://kdacreativecorps.org/events/start-promoting-spring-session/
CATEGORIES:Kern County,Kings,Project Milestone,Tulare
END:VEVENT
BEGIN:VEVENT
DTSTART;VALUE=DATE:20240203
DTEND;VALUE=DATE:20240204
DTSTAMP:20260421T041159
CREATED:20230628T172301Z
LAST-MODIFIED:20230911T052858Z
UID:5484-1706918400-1707004799@kdacreativecorps.org
SUMMARY:Winter Program Class #8/Final Performance
DESCRIPTION:
URL:https://kdacreativecorps.org/events/winter-program-class-8-final-performance/
CATEGORIES:Event,Kern County,Kings,Tulare
END:VEVENT
BEGIN:VEVENT
DTSTART;VALUE=DATE:20240212
DTEND;VALUE=DATE:20240213
DTSTAMP:20260421T041159
CREATED:20230628T173330Z
LAST-MODIFIED:20230911T052858Z
UID:5490-1707696000-1707782399@kdacreativecorps.org
SUMMARY:Registration Opens for Spring Program
DESCRIPTION:
URL:https://kdacreativecorps.org/events/registration-opens-for-spring-program/
CATEGORIES:Kern County,Kings,Project Milestone,Tulare
END:VEVENT
BEGIN:VEVENT
DTSTART;VALUE=DATE:20240223
DTEND;VALUE=DATE:20240224
DTSTAMP:20260421T041159
CREATED:20230628T173958Z
LAST-MODIFIED:20230911T052857Z
UID:5494-1708646400-1708732799@kdacreativecorps.org
SUMMARY:Registration Classes Spring Session
DESCRIPTION:
URL:https://kdacreativecorps.org/events/registration-classes-spring-session/
CATEGORIES:Kern County,Kings,Project Milestone,Tulare
END:VEVENT
BEGIN:VEVENT
DTSTART;VALUE=DATE:20240224
DTEND;VALUE=DATE:20240225
DTSTAMP:20260421T041159
CREATED:20230628T174250Z
LAST-MODIFIED:20230911T052857Z
UID:5496-1708732800-1708819199@kdacreativecorps.org
SUMMARY:Spring Program STARTS Class #1
DESCRIPTION:
URL:https://kdacreativecorps.org/events/spring-program-starts-class-1/
CATEGORIES:Kern County,Kings,Project Milestone,Tulare
END:VEVENT
END:VCALENDAR