BEGIN:VCALENDAR
VERSION:2.0
PRODID:-//KDA Creative Corps - ECPv6.15.20//NONSGML v1.0//EN
CALSCALE:GREGORIAN
METHOD:PUBLISH
X-WR-CALNAME:KDA Creative Corps
X-ORIGINAL-URL:https://kdacreativecorps.org
X-WR-CALDESC:Events for KDA Creative Corps
REFRESH-INTERVAL;VALUE=DURATION:PT1H
X-Robots-Tag:noindex
X-PUBLISHED-TTL:PT1H
BEGIN:VTIMEZONE
TZID:America/Los_Angeles
BEGIN:DAYLIGHT
TZOFFSETFROM:-0800
TZOFFSETTO:-0700
TZNAME:PDT
DTSTART:20220313T100000
END:DAYLIGHT
BEGIN:STANDARD
TZOFFSETFROM:-0700
TZOFFSETTO:-0800
TZNAME:PST
DTSTART:20221106T090000
END:STANDARD
BEGIN:DAYLIGHT
TZOFFSETFROM:-0800
TZOFFSETTO:-0700
TZNAME:PDT
DTSTART:20230312T100000
END:DAYLIGHT
BEGIN:STANDARD
TZOFFSETFROM:-0700
TZOFFSETTO:-0800
TZNAME:PST
DTSTART:20231105T090000
END:STANDARD
BEGIN:DAYLIGHT
TZOFFSETFROM:-0800
TZOFFSETTO:-0700
TZNAME:PDT
DTSTART:20240310T100000
END:DAYLIGHT
BEGIN:STANDARD
TZOFFSETFROM:-0700
TZOFFSETTO:-0800
TZNAME:PST
DTSTART:20241103T090000
END:STANDARD
END:VTIMEZONE
BEGIN:VEVENT
DTSTART;VALUE=DATE:20231104
DTEND;VALUE=DATE:20231105
DTSTAMP:20260421T091015
CREATED:20230628T160014Z
LAST-MODIFIED:20230911T052901Z
UID:5429-1699056000-1699142399@kdacreativecorps.org
SUMMARY:Fall Program End/Final Performance
DESCRIPTION:
URL:https://kdacreativecorps.org/events/fall-program-end-final-performance/
CATEGORIES:Event,Kern County,Kings,Tulare
END:VEVENT
BEGIN:VEVENT
DTSTART;VALUE=DATE:20231114
DTEND;VALUE=DATE:20231115
DTSTAMP:20260421T091015
CREATED:20230628T160905Z
LAST-MODIFIED:20230911T052901Z
UID:5437-1699920000-1700006399@kdacreativecorps.org
SUMMARY:Filmaker PR Interviews
DESCRIPTION:
URL:https://kdacreativecorps.org/events/filmaker-pr-interviews/
CATEGORIES:Fresno,Kings,Project Milestone,Tulare
END:VEVENT
BEGIN:VEVENT
DTSTART;VALUE=DATE:20231117
DTEND;VALUE=DATE:20231118
DTSTAMP:20260421T091015
CREATED:20230628T161318Z
LAST-MODIFIED:20230911T052900Z
UID:5439-1700179200-1700265599@kdacreativecorps.org
SUMMARY:Winter Cohort Winner Announcement
DESCRIPTION:
URL:https://kdacreativecorps.org/events/winter-cohort-winner-announcement/
CATEGORIES:Fresno,Kings,Project Release,Tulare
END:VEVENT
BEGIN:VEVENT
DTSTART;VALUE=DATE:20231129
DTEND;VALUE=DATE:20231130
DTSTAMP:20260421T091015
CREATED:20230628T161545Z
LAST-MODIFIED:20230911T052900Z
UID:5441-1701216000-1701302399@kdacreativecorps.org
SUMMARY:Meet & Greet (Winter Cohort)
DESCRIPTION:
URL:https://kdacreativecorps.org/events/meet-greet-winter-cohort/
CATEGORIES:Event,Fresno,Kings,Tulare
END:VEVENT
BEGIN:VEVENT
DTSTART;VALUE=DATE:20231130
DTEND;VALUE=DATE:20231201
DTSTAMP:20260421T091015
CREATED:20230628T161758Z
LAST-MODIFIED:20230911T052900Z
UID:5443-1701302400-1701388799@kdacreativecorps.org
SUMMARY:In-Person Showcase (Fall Cohort) DATE/TIME TBD
DESCRIPTION:
URL:https://kdacreativecorps.org/events/in-person-showcase-fall-cohort-date-time-tbd/
CATEGORIES:Event,Fresno,Kings,Tulare
END:VEVENT
END:VCALENDAR