BEGIN:VCALENDAR
VERSION:2.0
PRODID:-//KDA Creative Corps - ECPv6.15.20//NONSGML v1.0//EN
CALSCALE:GREGORIAN
METHOD:PUBLISH
X-ORIGINAL-URL:https://kdacreativecorps.org
X-WR-CALDESC:Events for KDA Creative Corps
REFRESH-INTERVAL;VALUE=DURATION:PT1H
X-Robots-Tag:noindex
X-PUBLISHED-TTL:PT1H
BEGIN:VTIMEZONE
TZID:America/Los_Angeles
BEGIN:DAYLIGHT
TZOFFSETFROM:-0800
TZOFFSETTO:-0700
TZNAME:PDT
DTSTART:20220313T100000
END:DAYLIGHT
BEGIN:STANDARD
TZOFFSETFROM:-0700
TZOFFSETTO:-0800
TZNAME:PST
DTSTART:20221106T090000
END:STANDARD
BEGIN:DAYLIGHT
TZOFFSETFROM:-0800
TZOFFSETTO:-0700
TZNAME:PDT
DTSTART:20230312T100000
END:DAYLIGHT
BEGIN:STANDARD
TZOFFSETFROM:-0700
TZOFFSETTO:-0800
TZNAME:PST
DTSTART:20231105T090000
END:STANDARD
BEGIN:DAYLIGHT
TZOFFSETFROM:-0800
TZOFFSETTO:-0700
TZNAME:PDT
DTSTART:20240310T100000
END:DAYLIGHT
BEGIN:STANDARD
TZOFFSETFROM:-0700
TZOFFSETTO:-0800
TZNAME:PST
DTSTART:20241103T090000
END:STANDARD
END:VTIMEZONE
BEGIN:VEVENT
DTSTART;VALUE=DATE:20231007
DTEND;VALUE=DATE:20231008
DTSTAMP:20260421T105034
CREATED:20230627T234555Z
LAST-MODIFIED:20230911T052902Z
UID:5414-1696636800-1696723199@kdacreativecorps.org
SUMMARY:Fall Program Class #4
DESCRIPTION:
URL:https://kdacreativecorps.org/events/fall-program-class-4/
CATEGORIES:Kern County,Kings,Project Milestone,Tulare
END:VEVENT
BEGIN:VEVENT
DTSTART;VALUE=DATE:20231014
DTEND;VALUE=DATE:20231015
DTSTAMP:20260421T105034
CREATED:20230628T153906Z
LAST-MODIFIED:20230911T052901Z
UID:5418-1697241600-1697327999@kdacreativecorps.org
SUMMARY:Fall Program Class #5
DESCRIPTION:
URL:https://kdacreativecorps.org/events/fall-program-class-5/
CATEGORIES:Kern County,Kings,Project Milestone,Tulare
END:VEVENT
BEGIN:VEVENT
DTSTART;VALUE=DATE:20231021
DTEND;VALUE=DATE:20231022
DTSTAMP:20260421T105034
CREATED:20230628T154044Z
LAST-MODIFIED:20230911T052901Z
UID:5420-1697846400-1697932799@kdacreativecorps.org
SUMMARY:Fall Program Class #6
DESCRIPTION:
URL:https://kdacreativecorps.org/events/fall-program-class-6/
CATEGORIES:Kern County,Kings,Project Milestone,Tulare
END:VEVENT
BEGIN:VEVENT
DTSTART;VALUE=DATE:20231028
DTEND;VALUE=DATE:20231029
DTSTAMP:20260421T105034
CREATED:20230628T155135Z
LAST-MODIFIED:20230911T052901Z
UID:5425-1698451200-1698537599@kdacreativecorps.org
SUMMARY:Fall Program Class #7
DESCRIPTION:
URL:https://kdacreativecorps.org/events/fall-program-class-7/
CATEGORIES:Kern County,Kings,Project Milestone,Tulare
END:VEVENT
END:VCALENDAR