BEGIN:VCALENDAR
VERSION:2.0
PRODID:-//KDA Creative Corps - ECPv6.15.20//NONSGML v1.0//EN
CALSCALE:GREGORIAN
METHOD:PUBLISH
X-WR-CALNAME:KDA Creative Corps
X-ORIGINAL-URL:https://kdacreativecorps.org
X-WR-CALDESC:Events for KDA Creative Corps
REFRESH-INTERVAL;VALUE=DURATION:PT1H
X-Robots-Tag:noindex
X-PUBLISHED-TTL:PT1H
BEGIN:VTIMEZONE
TZID:America/Los_Angeles
BEGIN:DAYLIGHT
TZOFFSETFROM:-0800
TZOFFSETTO:-0700
TZNAME:PDT
DTSTART:20230312T100000
END:DAYLIGHT
BEGIN:STANDARD
TZOFFSETFROM:-0700
TZOFFSETTO:-0800
TZNAME:PST
DTSTART:20231105T090000
END:STANDARD
BEGIN:DAYLIGHT
TZOFFSETFROM:-0800
TZOFFSETTO:-0700
TZNAME:PDT
DTSTART:20240310T100000
END:DAYLIGHT
BEGIN:STANDARD
TZOFFSETFROM:-0700
TZOFFSETTO:-0800
TZNAME:PST
DTSTART:20241103T090000
END:STANDARD
BEGIN:DAYLIGHT
TZOFFSETFROM:-0800
TZOFFSETTO:-0700
TZNAME:PDT
DTSTART:20250309T100000
END:DAYLIGHT
BEGIN:STANDARD
TZOFFSETFROM:-0700
TZOFFSETTO:-0800
TZNAME:PST
DTSTART:20251102T090000
END:STANDARD
END:VTIMEZONE
BEGIN:VEVENT
DTSTART;TZID=America/Los_Angeles:20240420T110000
DTEND;TZID=America/Los_Angeles:20240420T140000
DTSTAMP:20260421T204203
CREATED:20240226T024631Z
LAST-MODIFIED:20240226T024631Z
UID:6524-1713610800-1713621600@kdacreativecorps.org
SUMMARY:Modesto Sound CARP Showcase #2
DESCRIPTION:This will be a showcase featuring the latter 40 participants of the California Audio Roots Project\, a podcast focusing on giving the underserved communities of Modesto a voice to speak about social justice and community involvement. Participants will give excerpts about their podcasts and be available for questions. This event is free to the public and participants will bring flyers\, brochures and other information that showcases their issue. All 40 podcasts will be highlighted. Media is being invited. \nThis event will be held at the Angkor Hall\, located at 1303 Yosemite Ave\, Modesto\, CA 95354 on April 20th\, 2024. The event will be held from 11am – 2pm. We look forward to seeing you all there!
URL:https://kdacreativecorps.org/events/modesto-sound-carp-showcase-2/
LOCATION:NA
CATEGORIES:Event,Event Type,Project Milestone,Stanislaus
END:VEVENT
END:VCALENDAR