BEGIN:VCALENDAR
VERSION:2.0
PRODID:-//KDA Creative Corps - ECPv6.15.20//NONSGML v1.0//EN
CALSCALE:GREGORIAN
METHOD:PUBLISH
X-ORIGINAL-URL:https://kdacreativecorps.org
X-WR-CALDESC:Events for KDA Creative Corps
REFRESH-INTERVAL;VALUE=DURATION:PT1H
X-Robots-Tag:noindex
X-PUBLISHED-TTL:PT1H
BEGIN:VTIMEZONE
TZID:America/Los_Angeles
BEGIN:DAYLIGHT
TZOFFSETFROM:-0800
TZOFFSETTO:-0700
TZNAME:PDT
DTSTART:20220313T100000
END:DAYLIGHT
BEGIN:STANDARD
TZOFFSETFROM:-0700
TZOFFSETTO:-0800
TZNAME:PST
DTSTART:20221106T090000
END:STANDARD
BEGIN:DAYLIGHT
TZOFFSETFROM:-0800
TZOFFSETTO:-0700
TZNAME:PDT
DTSTART:20230312T100000
END:DAYLIGHT
BEGIN:STANDARD
TZOFFSETFROM:-0700
TZOFFSETTO:-0800
TZNAME:PST
DTSTART:20231105T090000
END:STANDARD
BEGIN:DAYLIGHT
TZOFFSETFROM:-0800
TZOFFSETTO:-0700
TZNAME:PDT
DTSTART:20240310T100000
END:DAYLIGHT
BEGIN:STANDARD
TZOFFSETFROM:-0700
TZOFFSETTO:-0800
TZNAME:PST
DTSTART:20241103T090000
END:STANDARD
BEGIN:DAYLIGHT
TZOFFSETFROM:-0800
TZOFFSETTO:-0700
TZNAME:PDT
DTSTART:20250309T100000
END:DAYLIGHT
BEGIN:STANDARD
TZOFFSETFROM:-0700
TZOFFSETTO:-0800
TZNAME:PST
DTSTART:20251102T090000
END:STANDARD
END:VTIMEZONE
BEGIN:VEVENT
DTSTART;TZID=America/Los_Angeles:20240203T130000
DTEND;TZID=America/Los_Angeles:20240203T153000
DTSTAMP:20260423T144121
CREATED:20231229T031035Z
LAST-MODIFIED:20231229T031035Z
UID:6416-1706965200-1706974200@kdacreativecorps.org
SUMMARY:African Drum Classes
DESCRIPTION:Interested in learning how to play an African Djembe Drum? Local Artist Donté McDaniel and Friends will be teaching beginner djembe drumming courses at the Frank H Ball Park community center (Frank H Ball Park 760 Mayor Ave Fresno\, CA 93706). We will have a kid’s class from 1:00PM-2:00PM and an adult class from 2:00PM-3:30PM. All instruments will be provided! Come learn how the djembe drum can engage our community while promoting social justice throughout the Fresno community.
URL:https://kdacreativecorps.org/events/african-drum-classes-6/
CATEGORIES:Fresno
ATTACH;FMTTYPE=image/png:https://kdacreativecorps.org/wp-content/uploads/2023/12/Fresno-African-Drum-Connection-Letter-US-Letter-150-x-150-px-16-x-9-in.png
END:VEVENT
BEGIN:VEVENT
DTSTART;TZID=America/Los_Angeles:20240120T130000
DTEND;TZID=America/Los_Angeles:20240120T153000
DTSTAMP:20260423T144121
CREATED:20231229T030848Z
LAST-MODIFIED:20231229T030848Z
UID:6414-1705755600-1705764600@kdacreativecorps.org
SUMMARY:African Drum Classes
DESCRIPTION:Interested in learning how to play an African Djembe Drum? Local Artist Donté McDaniel and Friends will be teaching beginner djembe drumming courses at the Frank H Ball Park community center (Frank H Ball Park 760 Mayor Ave Fresno\, CA 93706). We will have a kid’s class from 1:00PM-2:00PM and an adult class from 2:00PM-3:30PM. All instruments will be provided! Come learn how the djembe drum can engage our community while promoting social justice throughout the Fresno community.
URL:https://kdacreativecorps.org/events/african-drum-classes-5/
CATEGORIES:Event,Fresno
ATTACH;FMTTYPE=image/png:https://kdacreativecorps.org/wp-content/uploads/2023/12/Fresno-African-Drum-Connection-Letter-US-Letter-150-x-150-px-16-x-9-in.png
END:VEVENT
BEGIN:VEVENT
DTSTART;TZID=America/Los_Angeles:20240107T130000
DTEND;TZID=America/Los_Angeles:20240107T153000
DTSTAMP:20260423T144121
CREATED:20231229T030737Z
LAST-MODIFIED:20231229T030737Z
UID:6412-1704632400-1704641400@kdacreativecorps.org
SUMMARY:African Drum Classes
DESCRIPTION:Interested in learning how to play an African Djembe Drum? Local Artist Donté McDaniel and Friends will be teaching beginner djembe drumming courses at the Frank H Ball Park community center (Frank H Ball Park 760 Mayor Ave Fresno\, CA 93706). We will have a kid’s class from 1:00PM-2:00PM and an adult class from 2:00PM-3:30PM. All instruments will be provided! Come learn how the djembe drum can engage our community while promoting social justice throughout the Fresno community.
URL:https://kdacreativecorps.org/events/african-drum-classes-4/
CATEGORIES:Event,Fresno
ATTACH;FMTTYPE=image/png:https://kdacreativecorps.org/wp-content/uploads/2023/12/Fresno-African-Drum-Connection-Letter-US-Letter-150-x-150-px-16-x-9-in.png
END:VEVENT
BEGIN:VEVENT
DTSTART;TZID=America/Los_Angeles:20240106T130000
DTEND;TZID=America/Los_Angeles:20240106T153000
DTSTAMP:20260423T144121
CREATED:20231229T025505Z
LAST-MODIFIED:20231229T030542Z
UID:6407-1704546000-1704555000@kdacreativecorps.org
SUMMARY:African Drum Classes
DESCRIPTION:Interested in learning how to play an African Djembe Drum? Local Artist Donté McDaniel and Friends will be teaching beginner djembe drumming courses at the Frank H Ball Park community center (Frank H Ball Park 760 Mayor Ave Fresno\, CA 93706). We will have a kid’s class from 1:00PM-2:00PM and an adult class from 2:00PM-3:30PM. All instruments will be provided! Come learn how the djembe drum can engage our community while promoting social justice throughout the Fresno community. \n 
URL:https://kdacreativecorps.org/events/african-drum-classes-3/
CATEGORIES:Event,Fresno
ATTACH;FMTTYPE=image/png:https://kdacreativecorps.org/wp-content/uploads/2023/12/Fresno-African-Drum-Connection-Letter-US-Letter-150-x-150-px-16-x-9-in.png
END:VEVENT
BEGIN:VEVENT
DTSTART;TZID=America/Los_Angeles:20231230T130000
DTEND;TZID=America/Los_Angeles:20231230T153000
DTSTAMP:20260423T144121
CREATED:20231229T025233Z
LAST-MODIFIED:20231229T030439Z
UID:6404-1703941200-1703950200@kdacreativecorps.org
SUMMARY:African Drum Classes
DESCRIPTION:Interested in learning how to play an African Djembe Drum? Local Artist Donté McDaniel and Friends will be teaching beginner djembe drumming courses at the Frank H Ball Park community center (760 Mayor Ave Fresno\, CA 93706). We will have a kid’s class from 1:00PM-2:00PM and an adult/beginner class from 2:00PM-3:30PM. All instruments will be provided! Come learn how the djembe drum can engage our community while promoting social justice throughout the Fresno community.
URL:https://kdacreativecorps.org/events/african-drum-classes-2/
CATEGORIES:Event,Fresno
ATTACH;FMTTYPE=image/png:https://kdacreativecorps.org/wp-content/uploads/2023/12/Fresno-African-Drum-Connection-Letter-US-Letter-150-x-150-px-16-x-9-in.png
END:VEVENT
BEGIN:VEVENT
DTSTART;VALUE=DATE:20231209
DTEND;VALUE=DATE:20231210
DTSTAMP:20260423T144121
CREATED:20230628T163345Z
LAST-MODIFIED:20230911T052900Z
UID:5455-1702080000-1702166399@kdacreativecorps.org
SUMMARY:Television Showcase (Fall Cohort)
DESCRIPTION:
URL:https://kdacreativecorps.org/events/television-showcase-fall-cohort/
CATEGORIES:Event,Fresno,Kings,Tulare
END:VEVENT
BEGIN:VEVENT
DTSTART;VALUE=DATE:20231130
DTEND;VALUE=DATE:20231201
DTSTAMP:20260423T144121
CREATED:20230628T161758Z
LAST-MODIFIED:20230911T052900Z
UID:5443-1701302400-1701388799@kdacreativecorps.org
SUMMARY:In-Person Showcase (Fall Cohort) DATE/TIME TBD
DESCRIPTION:
URL:https://kdacreativecorps.org/events/in-person-showcase-fall-cohort-date-time-tbd/
CATEGORIES:Event,Fresno,Kings,Tulare
END:VEVENT
BEGIN:VEVENT
DTSTART;VALUE=DATE:20231129
DTEND;VALUE=DATE:20231130
DTSTAMP:20260423T144121
CREATED:20230628T161545Z
LAST-MODIFIED:20230911T052900Z
UID:5441-1701216000-1701302399@kdacreativecorps.org
SUMMARY:Meet & Greet (Winter Cohort)
DESCRIPTION:
URL:https://kdacreativecorps.org/events/meet-greet-winter-cohort/
CATEGORIES:Event,Fresno,Kings,Tulare
END:VEVENT
BEGIN:VEVENT
DTSTART;VALUE=DATE:20231117
DTEND;VALUE=DATE:20231118
DTSTAMP:20260423T144121
CREATED:20230628T161318Z
LAST-MODIFIED:20230911T052900Z
UID:5439-1700179200-1700265599@kdacreativecorps.org
SUMMARY:Winter Cohort Winner Announcement
DESCRIPTION:
URL:https://kdacreativecorps.org/events/winter-cohort-winner-announcement/
CATEGORIES:Fresno,Kings,Project Release,Tulare
END:VEVENT
BEGIN:VEVENT
DTSTART;VALUE=DATE:20231114
DTEND;VALUE=DATE:20231115
DTSTAMP:20260423T144121
CREATED:20230628T160905Z
LAST-MODIFIED:20230911T052901Z
UID:5437-1699920000-1700006399@kdacreativecorps.org
SUMMARY:Filmaker PR Interviews
DESCRIPTION:
URL:https://kdacreativecorps.org/events/filmaker-pr-interviews/
CATEGORIES:Fresno,Kings,Project Milestone,Tulare
END:VEVENT
BEGIN:VEVENT
DTSTART;TZID=America/Los_Angeles:20231104T130000
DTEND;TZID=America/Los_Angeles:20231104T153000
DTSTAMP:20260423T144121
CREATED:20231029T205427Z
LAST-MODIFIED:20231029T210354Z
UID:6155-1699102800-1699111800@kdacreativecorps.org
SUMMARY:African Drum Classes
DESCRIPTION:Interested in learning how to play an African Djembe Drum? Local Artist Donté McDaniel and Friends will be teaching beginner djembe drumming courses at the Frank H Ball Park community center (Frank H Ball Park 760 Mayor Ave Fresno\, CA 93706). We will have a kid’s class from 1:00PM-2:00PM and an adult class from 2:00PM-3:30PM. All instruments will be provided! Come learn how the djembe drum can engage our community while promoting social justice throughout the Fresno community.
URL:https://kdacreativecorps.org/events/african-drum-classes/
CATEGORIES:Event,Fresno
ATTACH;FMTTYPE=image/png:https://kdacreativecorps.org/wp-content/uploads/2023/10/Fresno-African-Drum-Connection.png
END:VEVENT
BEGIN:VEVENT
DTSTART;VALUE=DATE:20230802
DTEND;VALUE=DATE:20230803
DTSTAMP:20260423T144121
CREATED:20230627T215341Z
LAST-MODIFIED:20230911T052904Z
UID:5357-1690934400-1691020799@kdacreativecorps.org
SUMMARY:Meet & Greet (Fall Cohort)
DESCRIPTION:
URL:https://kdacreativecorps.org/events/meet-greet-fall-cohort/
CATEGORIES:Event,Fresno,Kings,Tulare
END:VEVENT
BEGIN:VEVENT
DTSTART;VALUE=DATE:20230726
DTEND;VALUE=DATE:20230727
DTSTAMP:20260423T144121
CREATED:20230627T213548Z
LAST-MODIFIED:20230911T052904Z
UID:5346-1690329600-1690415999@kdacreativecorps.org
SUMMARY:Fall Cohort Winner Announcement
DESCRIPTION:
URL:https://kdacreativecorps.org/events/fall-cohort-winner-announcement/
CATEGORIES:Fresno,Kings,Project Release,Tulare
END:VEVENT
END:VCALENDAR